BEGIN:VCALENDAR
VERSION:2.0
PRODID:-//Mombacher Turnverein 1861 e.V. - ECPv6.15.20//NONSGML v1.0//EN
CALSCALE:GREGORIAN
METHOD:PUBLISH
X-WR-CALNAME:Mombacher Turnverein 1861 e.V.
X-ORIGINAL-URL:https://www.mombacher-turnverein.de
X-WR-CALDESC:Veranstaltungen für Mombacher Turnverein 1861 e.V.
REFRESH-INTERVAL;VALUE=DURATION:PT1H
X-Robots-Tag:noindex
X-PUBLISHED-TTL:PT1H
BEGIN:VTIMEZONE
TZID:Europe/Berlin
BEGIN:DAYLIGHT
TZOFFSETFROM:+0100
TZOFFSETTO:+0200
TZNAME:CEST
DTSTART:20240331T010000
END:DAYLIGHT
BEGIN:STANDARD
TZOFFSETFROM:+0200
TZOFFSETTO:+0100
TZNAME:CET
DTSTART:20241027T010000
END:STANDARD
BEGIN:DAYLIGHT
TZOFFSETFROM:+0100
TZOFFSETTO:+0200
TZNAME:CEST
DTSTART:20250330T010000
END:DAYLIGHT
BEGIN:STANDARD
TZOFFSETFROM:+0200
TZOFFSETTO:+0100
TZNAME:CET
DTSTART:20251026T010000
END:STANDARD
BEGIN:DAYLIGHT
TZOFFSETFROM:+0100
TZOFFSETTO:+0200
TZNAME:CEST
DTSTART:20260329T010000
END:DAYLIGHT
BEGIN:STANDARD
TZOFFSETFROM:+0200
TZOFFSETTO:+0100
TZNAME:CET
DTSTART:20261025T010000
END:STANDARD
END:VTIMEZONE
BEGIN:VEVENT
DTSTART;TZID=Europe/Berlin:20250604T143000
DTEND;TZID=Europe/Berlin:20250604T180000
DTSTAMP:20260422T230148
CREATED:20250526T124227Z
LAST-MODIFIED:20250526T124227Z
UID:15363-1749047400-1749060000@www.mombacher-turnverein.de
SUMMARY:Stadtteilmarkt
DESCRIPTION:Mit vielen Angeboten und buntem Programm\, u.a. mit unseren Tanzgruppen. Alle Details dazu findest du HIER
URL:https://www.mombacher-turnverein.de/event/stadtteilmarkt/
LOCATION:Rheinland-Pfalz
END:VEVENT
BEGIN:VEVENT
DTSTART;TZID=Europe/Berlin:20250619T090000
DTEND;TZID=Europe/Berlin:20250619T170000
DTSTAMP:20260422T230148
CREATED:20250526T054954Z
LAST-MODIFIED:20250526T054954Z
UID:15358-1750323600-1750352400@www.mombacher-turnverein.de
SUMMARY:Wanderung am 19.06.2025
DESCRIPTION:Alles Infos hierzu findest du HIER
URL:https://www.mombacher-turnverein.de/event/wanderung-am-19-06-2025/
LOCATION:Rheinland-Pfalz
END:VEVENT
BEGIN:VEVENT
DTSTART;TZID=Europe/Berlin:20250629T140000
DTEND;TZID=Europe/Berlin:20250629T170000
DTSTAMP:20260422T230148
CREATED:20250612T111921Z
LAST-MODIFIED:20250612T111921Z
UID:15400-1751205600-1751216400@www.mombacher-turnverein.de
SUMMARY:Schnitzeljagd und Schnitzelessen
DESCRIPTION:Alle Details findest du HIER
URL:https://www.mombacher-turnverein.de/event/schnitzeljagd-und-schnitzelessen/
LOCATION:MTV Sportzentrum – Jugendraum\, Turnerstraße 31-33\, Mainz-Mombach\, Rheinland-Pfalz\, 55120\, Deutschland
END:VEVENT
BEGIN:VEVENT
DTSTART;TZID=Europe/Berlin:20250629T143000
DTEND;TZID=Europe/Berlin:20250629T153000
DTSTAMP:20260422T230148
CREATED:20250526T134400Z
LAST-MODIFIED:20250526T134533Z
UID:15374-1751207400-1751211000@www.mombacher-turnverein.de
SUMMARY:Familie Bär und die bunten Hunde - das MTV-Familienkonzert
DESCRIPTION:Alle Infos und die Anmeldung findest du HIER
URL:https://www.mombacher-turnverein.de/event/familie-baer-und-der-bunte-hund-das-mtv-familienkonzert/
LOCATION:MTV Sportzentrum – Foyer\, Turnerstraße 31-33\, Mainz-Mombach\, Rheinland-Pfalz\, 55120\, Deutschland
END:VEVENT
END:VCALENDAR